BEGIN:VCALENDAR
VERSION:2.0
PRODID:-//The Grandview - ECPv6.15.20//NONSGML v1.0//EN
CALSCALE:GREGORIAN
METHOD:PUBLISH
X-ORIGINAL-URL:https://www.grandviewevents.com
X-WR-CALDESC:Events for The Grandview
REFRESH-INTERVAL;VALUE=DURATION:PT1H
X-Robots-Tag:noindex
X-PUBLISHED-TTL:PT1H
BEGIN:VTIMEZONE
TZID:America/New_York
BEGIN:DAYLIGHT
TZOFFSETFROM:-0500
TZOFFSETTO:-0400
TZNAME:EDT
DTSTART:20250309T070000
END:DAYLIGHT
BEGIN:STANDARD
TZOFFSETFROM:-0400
TZOFFSETTO:-0500
TZNAME:EST
DTSTART:20251102T060000
END:STANDARD
BEGIN:DAYLIGHT
TZOFFSETFROM:-0500
TZOFFSETTO:-0400
TZNAME:EDT
DTSTART:20260308T070000
END:DAYLIGHT
BEGIN:STANDARD
TZOFFSETFROM:-0400
TZOFFSETTO:-0500
TZNAME:EST
DTSTART:20261101T060000
END:STANDARD
BEGIN:DAYLIGHT
TZOFFSETFROM:-0500
TZOFFSETTO:-0400
TZNAME:EDT
DTSTART:20270314T070000
END:DAYLIGHT
BEGIN:STANDARD
TZOFFSETFROM:-0400
TZOFFSETTO:-0500
TZNAME:EST
DTSTART:20271107T060000
END:STANDARD
END:VTIMEZONE
BEGIN:VEVENT
DTSTART;TZID=America/New_York:20260510T113000
DTEND;TZID=America/New_York:20260510T163000
DTSTAMP:20260419T172102
CREATED:20260122T185903Z
LAST-MODIFIED:20260319T133650Z
UID:139-1778412600-1778430600@www.grandviewevents.com
SUMMARY:Mother’s Day Buffet
DESCRIPTION:Treat Mom to a gourmet Mother’s Day Buffet overlooking the Hudson River!\n\nJoin us from 11:30am – 4:30pm on Sunday\, May 10th for hand-carved ham\, turkey breast & prime rib of beef\, chilled shrimp cocktail\, gourmet entrées and so much more! \nCall 845.486.4700 to make your reservations\nOnly $60.95 Per Adult & $26.95 Per Child*\nPlus NYS Sales Tax \n*Children 4-10 years of age \nPrice Does Not Include Tax or Gratuity • No Beverages Included • Reservations Only • Children 3 and under are free • Bring your own highchair or booster seat \n\nHand-Carved to Order\n\nHoney-Glazed Ham\nChardonnay Herb Roasted Turkey Breast\nSlow-Roasted Prime Rib of Beef with Creamed Horseradish\n\nUnlimited Chilled Shrimp Cocktail\nGourmet Entrée Selections\n\nParmesan Crusted Chicken\, Lemon\, Roasted Tomato Wine Sauce\nBaked Salmon\, Paneapple Sauce\nChicken ala Rustica with Italian Sausage and Sauteed Peppers\, Onions and Potatoes\nRigatoni ala Vodka\nTraditional Eggplant Rollatini\n\nHouse-Made Accompaniments\n\nRoasted Red Potatoes\nFresh Seasonal Vegetables\n\nSoups and Salads\n\nMinestrone Soup\nFresh Mozzarella & Tomato\nBroccoli and Cheddar Soup\nGrandview Salad Bar\nTraditional Caesar Salad\nChef’s Selection of Chilled Salads\nFresh Fruit\n\nFantastic Dessert Table\n\nMake Your Own Ice Cream/Sorbet Sundae\nTriple Chocolate Cheesecake with Oreo Crust\nVanilla Bean Crème Brûlée\nCoconut Cream Cake\nLemon Meringue Pie\nFrench Macaroons\nBerry Shortcakes\nChocolate Truffles\nGeorgia Peach Cobbler\nS’mores Bark\nTiramisu\n\nFor The Little Ones\n\nChicken Nuggets\nFrench Fries\nMac & Cheese
URL:https://www.grandviewevents.com/event/mothers-day-buffet-at-the-grandview/
LOCATION:The Grandview\, 176 Rinaldi Boulevard\, Poughkeepsie\, NY\, 12601\, United States
CATEGORIES:Special Events
ATTACH;FMTTYPE=image/jpeg:https://www.grandviewevents.com/wp-content/uploads/2026/01/gv-mothers-day-2026.jpg
END:VEVENT
END:VCALENDAR