BEGIN:VCALENDAR
VERSION:2.0
PRODID:-//The Grandview - ECPv6.15.20//NONSGML v1.0//EN
CALSCALE:GREGORIAN
METHOD:PUBLISH
X-WR-CALNAME:The Grandview
X-ORIGINAL-URL:https://www.grandviewevents.com
X-WR-CALDESC:Events for The Grandview
REFRESH-INTERVAL;VALUE=DURATION:PT1H
X-Robots-Tag:noindex
X-PUBLISHED-TTL:PT1H
BEGIN:VTIMEZONE
TZID:America/New_York
BEGIN:DAYLIGHT
TZOFFSETFROM:-0500
TZOFFSETTO:-0400
TZNAME:EDT
DTSTART:20250309T070000
END:DAYLIGHT
BEGIN:STANDARD
TZOFFSETFROM:-0400
TZOFFSETTO:-0500
TZNAME:EST
DTSTART:20251102T060000
END:STANDARD
BEGIN:DAYLIGHT
TZOFFSETFROM:-0500
TZOFFSETTO:-0400
TZNAME:EDT
DTSTART:20260308T070000
END:DAYLIGHT
BEGIN:STANDARD
TZOFFSETFROM:-0400
TZOFFSETTO:-0500
TZNAME:EST
DTSTART:20261101T060000
END:STANDARD
BEGIN:DAYLIGHT
TZOFFSETFROM:-0500
TZOFFSETTO:-0400
TZNAME:EDT
DTSTART:20270314T070000
END:DAYLIGHT
BEGIN:STANDARD
TZOFFSETFROM:-0400
TZOFFSETTO:-0500
TZNAME:EST
DTSTART:20271107T060000
END:STANDARD
END:VTIMEZONE
BEGIN:VEVENT
DTSTART;TZID=America/New_York:20260214T180000
DTEND;TZID=America/New_York:20260214T220000
DTSTAMP:20260419T204632
CREATED:20230117T194942Z
LAST-MODIFIED:20260116T120853Z
UID:7665-1771092000-1771106400@www.grandviewevents.com
SUMMARY:Valentine's Day
DESCRIPTION:Love is in the Air! This Valentine’s Day treat your special someone with an evening of Dinner and Dancing at The Grandview!\nThe Hudson Valley Event Group will set the mood and our culinary team will cater to your every need. Each couple will receive Four Hours of Top Shelf Open Bar\, Champagne and Wine Service.\n\nRESERVE YOUR TABLEGET TICKETS ONLINE\n\nThis event is $169.95 Per Couple Plus 22% House Service Charge & Tax\nNon-Refundable Pre-Paid Reservations. No jeans or hats permitted. Over 21 only please.\n\nOur Valentine’s Day Dinner Menu\nShrimp Cocktail Accompanied by a House Salad of Baby Greens\nTableside Choice Of\nGrilled Ribeye Steak\nSauce BordelaiseGarden Herbed French Breast of Chicken\nWild Mushrooms\, Roasted Shallot SaucePan-Seared Salmon\nFresh Herbs\, Port Wine and Roasted Shallot SauceVegetarian Risotto\nSinful Sweet Display\nTruffles\, Crème Brûlée\, Dessert Martinis\, “Let’s Make Whoopie” Pies\, Raspberry Mousse Tartlets\, Fresh Beignets\, Crêpe Station\, French Macaroons\, Salted Caramel & Pretzel Fudge Cake\, Warm Churros\, Scarlett Strawberry Cheesecake\, Red Velved Cake Pops\n\nBUY TICKETS
URL:https://www.grandviewevents.com/event/valentines-day/
LOCATION:The Grandview\, 176 Rinaldi Boulevard\, Poughkeepsie\, NY\, 12601\, United States
CATEGORIES:Special Events
ATTACH;FMTTYPE=image/jpeg:https://www.grandviewevents.com/wp-content/uploads/2023/01/gv-vday-2026-1.jpg
END:VEVENT
BEGIN:VEVENT
DTSTART;TZID=America/New_York:20260219T180000
DTEND;TZID=America/New_York:20260219T210000
DTSTAMP:20260419T204632
CREATED:20251030T132612Z
LAST-MODIFIED:20251030T132847Z
UID:8604-1771524000-1771534800@www.grandviewevents.com
SUMMARY:February 19 Tasting Event
DESCRIPTION:Save the Date for our Tasting Event!\nYour wedding day is one of the most important days of your life. At The Grandview\, our team will work with you day in and day out to make sure it is everything you dreamed of. We promise to help turn your dream into a reality. \nTastings at The Grandview are simple. It’s your opportunity to be our guest and sample the food and service. You will arrive to a fully customized event with all the bells and whistles\, with no anxiety and no stress. It’s your turn to sit back and enjoy. \nContact us today to reserve your space at our tasting event by calling 845-486-4700 or email sales@grandviewevents.com.\nPhotos from a previous tasting event
URL:https://www.grandviewevents.com/event/february-19-tasting-event/
LOCATION:The Grandview\, 176 Rinaldi Boulevard\, Poughkeepsie\, NY\, 12601\, United States
CATEGORIES:Tasting Events
ATTACH;FMTTYPE=image/jpeg:https://www.grandviewevents.com/wp-content/uploads/2025/10/grandview-tasting-menus-20262.jpg
END:VEVENT
END:VCALENDAR