BEGIN:VCALENDAR
VERSION:2.0
PRODID:-//The Grandview - ECPv6.15.20//NONSGML v1.0//EN
CALSCALE:GREGORIAN
METHOD:PUBLISH
X-ORIGINAL-URL:https://www.grandviewevents.com
X-WR-CALDESC:Events for The Grandview
REFRESH-INTERVAL;VALUE=DURATION:PT1H
X-Robots-Tag:noindex
X-PUBLISHED-TTL:PT1H
BEGIN:VTIMEZONE
TZID:America/New_York
BEGIN:DAYLIGHT
TZOFFSETFROM:-0500
TZOFFSETTO:-0400
TZNAME:EDT
DTSTART:20240310T070000
END:DAYLIGHT
BEGIN:STANDARD
TZOFFSETFROM:-0400
TZOFFSETTO:-0500
TZNAME:EST
DTSTART:20241103T060000
END:STANDARD
BEGIN:DAYLIGHT
TZOFFSETFROM:-0500
TZOFFSETTO:-0400
TZNAME:EDT
DTSTART:20250309T070000
END:DAYLIGHT
BEGIN:STANDARD
TZOFFSETFROM:-0400
TZOFFSETTO:-0500
TZNAME:EST
DTSTART:20251102T060000
END:STANDARD
BEGIN:DAYLIGHT
TZOFFSETFROM:-0500
TZOFFSETTO:-0400
TZNAME:EDT
DTSTART:20260308T070000
END:DAYLIGHT
BEGIN:STANDARD
TZOFFSETFROM:-0400
TZOFFSETTO:-0500
TZNAME:EST
DTSTART:20261101T060000
END:STANDARD
BEGIN:DAYLIGHT
TZOFFSETFROM:-0500
TZOFFSETTO:-0400
TZNAME:EDT
DTSTART:20270314T070000
END:DAYLIGHT
BEGIN:STANDARD
TZOFFSETFROM:-0400
TZOFFSETTO:-0500
TZNAME:EST
DTSTART:20271107T060000
END:STANDARD
END:VTIMEZONE
BEGIN:VEVENT
DTSTART;TZID=America/New_York:20251231T190000
DTEND;TZID=America/New_York:20260101T010000
DTSTAMP:20260420T022333
CREATED:20221216T174435Z
LAST-MODIFIED:20251203T145259Z
UID:7188-1767207600-1767229200@www.grandviewevents.com
SUMMARY:New Year's Eve Gala
DESCRIPTION:Ring in the New Year at the most luxurious party in the Hudson Valley!\nThe Grandview in Poughkeepsie NY cordially invites you to celebrate New Year’s Eve with a phenomenal display of dishes and decadent desserts while dancing the night away with music and entertainment by K104’s very own Bill Beale. The party starts at 7:00pm with a beautiful cocktail reception and 6 Hours of Top-Shelf Open Bar. \nDo not miss the BEST New Year’s Eve Celebration in Poughkeepsie overlooking the picturesque Hudson River.\nBUY TICKETS\n$170 Per Person\nPlus 22% House Service Charge & NYS Sales Tax \n\n  \nReceive a Special rate at the Hampton Inn and Suites\, Poughkeepsie!\nCLICK TO BOOK YOUR OVERNIGHT ROOM\nOr call 1-800-HILTONS & use Group Code NYE\nIncludes transportation\, internet\, parking and breakfast! \n  \n \n  \n  \n\nMENU\nCocktail Reception\n7:00 pm to 8:30 pm \nButler-Style Passed Hors d’ Oeuvres\n\nClassic Arancini\nBuffalo Chicken Spring Rolls\nMini Lobster Rolls\nAlmond Crusted Goat Cheese Medallions\nParmesan Truffle Pomme Frites\nSeared Beef Tenderloin\nGrilled Baby Lamb Chops\n\nChilled Seafood Display\n\nColossal Shrimp\nShucked Littleneck Clams\nOysters on the Half Shell\nOyster Shooters\nSeafood Martinis\n\nBella Italia\n\nMussels Scarpariello\, White Wine\, Cherry Peppers\, Garlic\nStuffed Eggplant Rollatini\, Herbed Ricotta\, Marinara\nGrilled Flatbread\, Ricotta\, Fresh Mozzarella\, Pesto\nSpiced Marinated Fresh Bocconcini\n\nThe American Dream\n\nAngus Beef Burger Sliders\nBaked Macaroni and Cheese\nSausage and Peppers\nHouse-Made Sweet and Russet Potato Chips\n\nLa Casa Del Rio\n\nZesty Shrimp Tacos\nSliced Steak Fajitas with Sautéed Onions and Peppers\nChilled Black Bean and Corn Salad\nFresh Guacamole and Pico de Gallo Cups with\nHouse-Made Tri-Color Chips\n\nCote De Boeuf\n\nTomahawk Steak\nMini Twice Baked Potatoes\, Grilled Asparagus\, Lemon-Scented Risotto\n\nDinner\nAppetizer & Salad Duet \nBurrata and Roasted Beets with Arugula and Fennel Salad\, Lemon Vinaigrette \nTableside Choice of:\n\nSeared Filet Mignon\, Garlic Compound Butter\nFrench Cut Chicken\, Roasted Butternut Squash Sauce with Caramelized Apples\nMushroom Risotto\nSalmon Oscar\n\nDessert\nMinutes To Midnight\nEspresso Chocolate Caramel Mousse Cake With Strawberry Champagne Macaron \nDecadent Departures\n\nBacon\, Egg and Cheese Croissants\nCheeseburger Sliders & Hot Dogs\n\nBUY TICKETS\nBOOK YOUR OVERNIGHT ROOM
URL:https://www.grandviewevents.com/event/new-years-eve-gala/
LOCATION:The Grandview\, 176 Rinaldi Boulevard\, Poughkeepsie\, NY\, 12601\, United States
CATEGORIES:Special Events
ATTACH;FMTTYPE=image/jpeg:https://www.grandviewevents.com/wp-content/uploads/2022/12/gv-nye-2026-1.jpg
END:VEVENT
END:VCALENDAR